BEGIN:VCALENDAR
VERSION:2.0
PRODID:-//Principality of the Mists - ECPv6.15.11//NONSGML v1.0//EN
CALSCALE:GREGORIAN
METHOD:PUBLISH
X-WR-CALNAME:Principality of the Mists
X-ORIGINAL-URL:https://mists.westkingdom.org
X-WR-CALDESC:Events for Principality of the Mists
REFRESH-INTERVAL;VALUE=DURATION:PT1H
X-Robots-Tag:noindex
X-PUBLISHED-TTL:PT1H
BEGIN:VTIMEZONE
TZID:America/Los_Angeles
BEGIN:DAYLIGHT
TZOFFSETFROM:-0800
TZOFFSETTO:-0700
TZNAME:PDT
DTSTART:20240310T100000
END:DAYLIGHT
BEGIN:STANDARD
TZOFFSETFROM:-0700
TZOFFSETTO:-0800
TZNAME:PST
DTSTART:20241103T090000
END:STANDARD
BEGIN:DAYLIGHT
TZOFFSETFROM:-0800
TZOFFSETTO:-0700
TZNAME:PDT
DTSTART:20250309T100000
END:DAYLIGHT
BEGIN:STANDARD
TZOFFSETFROM:-0700
TZOFFSETTO:-0800
TZNAME:PST
DTSTART:20251102T090000
END:STANDARD
BEGIN:DAYLIGHT
TZOFFSETFROM:-0800
TZOFFSETTO:-0700
TZNAME:PDT
DTSTART:20260308T100000
END:DAYLIGHT
BEGIN:STANDARD
TZOFFSETFROM:-0700
TZOFFSETTO:-0800
TZNAME:PST
DTSTART:20261101T090000
END:STANDARD
END:VTIMEZONE
BEGIN:VEVENT
DTSTART;TZID=America/Los_Angeles:20250308T090000
DTEND;TZID=America/Los_Angeles:20250308T220000
DTSTAMP:20260422T014010
CREATED:20250124T044146Z
LAST-MODIFIED:20250124T044435Z
UID:3201-1741424400-1741471200@mists.westkingdom.org
SUMMARY:Whiteshield
DESCRIPTION:Barony of Darkwood (Tres Pinos\, CA) \nGood Gentles All!! You are warmly invited to join the Barony of Darkwood at the 2025 White Shield Tournament. \nCurrently\, there is planned to be both heavy and rapier tournaments with the victors receiving prizes and the possibility of becoming one of the Baronial Champions of Darkwood. \nOther activities to be determined. \nIn the evening\, there will be a grand feast prepared by Morgana Vecchietti and company. More information on menu and ticket sales coming soon! \nSite opens: 9:00am\nLists Opens & armor inspections: 10:00am\nLists close: 11:00am\nFeast: 5:30/6:00pm -ish \n**Feast information to come.** \nEvent Steward: Þóra Rauðbjarnardóttir (Denee Krzyzanski): Thora@westkingdom.org \nFeast Cook: Morgana Vecchietti: morgana.vecchietti@gmail.com \nTicket Fee: Adult “Non-Member” Registration: $30\, Adult Member Registration ($): $20\, Children (under 17 yrs of age) FREE\, Family Cap ($): $0 \nLocation: San Benito County Fairgrounds: 9000 Airline Hwy\, Tres Pinos\, CA 95075 \nDirections to site:\nFrom south of Gilroy: Take the best route to US-101 N to CA-156 E toward San Juan Batista/ Hollister. Turn right onto Union Road. Turn right onto Airline Hwy/ CA-25. *Follow CA-25 through Tres Pinos and the fairgrounds will be on your right.\nFrom the Bay Area: Take US-101 S. Take the CA-25 exit toward Hollister CA-25 merging right going into Hollister. Turn left onto Santa Ana Road. Turn right onto Fairview Road. Turn left onto Airline Hwy/ CA-25 and follow CA-25 through Tres Pinos and the fairgrounds will be on your right.\nFrom I-5: Take CA-33 exit at Santa Nella towards Gilroy. Turn West onto CA-33. Merge onto CA-152 West toward Gilroy. Turn left onto CA-156/ Pacheco Pass Hwy. Turn left onto Fairview Road. Turn left onto Airline Hwy/ CA-25 and follow CA-25 through Tres Pinos and the fairgrounds will be on your right. \nSite Information:\nSite Accessibility: Cell Phone Reception\nTerrain Description:\nBodies of water on/near site:\nInsects or wild animals to be aware of on/ near site:\nAmenities on Site: Stone Privies Shopping near by Modern Lighting: Such as Street/ Walkway lights\nAdditional Comments:
URL:https://mists.westkingdom.org/event/whiteshield-2025/
LOCATION:San Benito County Fairgrounds / Bolado Park Event Center\, 9000 Airline Hwy\, Tres Pinos\, CA\, 95075\, United States
ORGANIZER;CN="%C3%9E%C3%B3ra Rau%C3%B0bjarnard%C3%B3ttir (Dene%C3%A9 Krzyzanski)":MAILTO:thora@westkingdom.org
END:VEVENT
BEGIN:VEVENT
DTSTART;TZID=America/Los_Angeles:20250321T130000
DTEND;TZID=America/Los_Angeles:20250323T130000
DTSTAMP:20260422T014010
CREATED:20241230T060507Z
LAST-MODIFIED:20241230T061149Z
UID:3186-1742562000-1742734800@mists.westkingdom.org
SUMMARY:March Crown
DESCRIPTION:West Kingdom (Tres Pinos\, CA) \nGreetings West Kingdom!! March Crown 2025 approaches. Crown Event will be held at Bolado Park – San Benito County Fairgrounds in Tres Pinos\, California. Join Their Majesties\, Fabian and Eliška\, as they host a grand tournament to select their Heirs to the West Kingdom Thrones. \nEvent Sight Open: Mar 21\, 2025 at 1:00 PM\nEvent Sight Close: Mar 23\, 2025 at 1:00 PM \nEvent Steward: Antei Kikaku\, OD (Joseph Claudel): souichi@westkingdom.org\, 207-441-1419 and Da’ud ibn Ali (David Williams): daud.ali.sca@gmail.com 925-708-5075 \nTicket Fee: Adult “Non-Member” Registration: $40\, Adult Member Registration ($): $30\, Children (under 17 yrs of age) FREE FREE\, Family Cap ($): $0 \nPrePay: PayPal https://sites.google.com/westkingdom.org/epay/home \nLocation: San Benito County Fairground: 9000 Airline Hwy\, Tres Pinos\, CA 95075 \nDirections to site:\nFrom south of Gilroy: Take the best route to US-101 N to CA-156 E toward San Juan Batista/ Hollister. Turn right onto Union Road. Turn right onto Airline Hwy/ CA-25. *Follow CA-25 through Tres Pinos and the fairgrounds will be on your right.\nFrom the Bay Area: Take US-101 S. Take the CA-25 exit toward Hollister CA-25 merging right going into Hollister. Turn left onto Santa Ana Road. Turn right onto Fairview Road. Turn left onto Airline Hwy/ CA-25 and follow CA-25 through Tres Pinos and the fairgrounds will be on your right.\nFrom I-5: Take CA-33 exit at Santa Nella towards Gilroy. Turn West onto CA-33. Merge onto CA-152 West toward Gilroy. Turn left onto CA-156/ Pacheco Pass Hwy. Turn left onto Fairview Road. Turn left onto Airline Hwy/ CA-25 and follow CA-25 through Tres Pinos and the fairgrounds will be on your right. \nSite Information:\nSite Accessibility: Wheelchair Accessible Cell Phone Reception\nTerrain Description: The site is a county fairgrounds. The main portions of the list field and around\, are grass/earth. There is a gopher issue\, so terrain is bumpy\, but traversable by a wheelchair. The camping area is surrounded by gravel or alternatively paved roads. Onsite there will be ADA compliant portable restrooms. Dogs are allowed on leashes at all times. UNLESS the park is also having a livestock show\, in which case\, only service animals will be allowed. At this time we do not know of a livestock show happening. If a conflict arises\, we will make it known asap. We will be allowed to use the stone privies\, UNLESS the arena has been rented to another group. The stone privies are at our disposal as a courtesy\, we have not rented that area. If a conflict arises\, we will make it known. We will be entering using GATE 2\, which is the gate by the large hall\, and the livestock office. Site Accessibility: Wheelchair Accessible\, Close / Handicap Parking\, Cell Phone Reception Amenities on Site: Stone Privies\, Portable Privies\, Showers\, Potable Water\, Fire Pits: West Kingdom Conventions\, RV Parking\, RV Hookups\, Pet Friendly\nBodies of water on/near site:\nInsects or wild animals to be aware of on/ near site: Groundhogs\, Hornets\nAmenities on Site: Portable Privies Potable Water Shopping near by Fire Pits: West Kingdom Conventions RV Parking RV Hookups Pet Friendly Other (Please specify in the “Additional Comments” section at the bottom of this form)\nAdditional Comments: RVs need to contact Balado Park directly.
URL:https://mists.westkingdom.org/event/march-crown-2025/
LOCATION:San Benito County Fairgrounds / Bolado Park Event Center\, 9000 Airline Hwy\, Tres Pinos\, CA\, 95075\, United States
CATEGORIES:Kingdom Event
ORGANIZER;CN="Antei Kikaku%2C OD (Joseph Claudel)":MAILTO:souichi@westkingdom.org
END:VEVENT
END:VCALENDAR